BEGIN:VCALENDAR
VERSION:2.0
PRODID:-//Paddy Whelan`s - ECPv4.0.5//NONSGML v1.0//EN
CALSCALE:GREGORIAN
METHOD:PUBLISH
X-WR-CALNAME:Paddy Whelan`s
X-ORIGINAL-URL:https://www.paddywhelans.com
X-WR-CALDESC:Events for Paddy Whelan`s
BEGIN:VEVENT
DTSTART;TZID="UTC+3":20190103T155000
DTEND;TZID="UTC+3":20190103T155000
DTSTAMP:20260423T094512
CREATED:20181229T154250
LAST-MODIFIED:20181229T154250
UID:5930-1546530600-1546530600@www.paddywhelans.com
SUMMARY:Ice-hockey – KHL: Ak Bars Kazan VS Avangard Omsk
DESCRIPTION:
URL:https://www.paddywhelans.com/event/ice-hockey-khl-ak-bars-kazan-vs-avangard-omsk/
CATEGORIES:Ice Hockey
END:VEVENT
END:VCALENDAR