BEGIN:VCALENDAR
VERSION:2.0
PRODID:-//Paddy Whelan`s - ECPv4.0.5//NONSGML v1.0//EN
CALSCALE:GREGORIAN
METHOD:PUBLISH
X-WR-CALNAME:Paddy Whelan`s
X-ORIGINAL-URL:https://www.paddywhelans.com
X-WR-CALDESC:Events for Paddy Whelan`s
BEGIN:VEVENT
DTSTART;TZID="UTC+3":20180713T195500
DTEND;TZID="UTC+3":20180713T195500
DTSTAMP:20260423T084248
CREATED:20180708T074730
LAST-MODIFIED:20180708T074730
UID:5302-1531511700-1531511700@www.paddywhelans.com
SUMMARY:IAAF\, Diamond League
DESCRIPTION:
URL:https://www.paddywhelans.com/event/iaaf-diamond-league-6/
CATEGORIES:Other Sports
END:VEVENT
END:VCALENDAR