BEGIN:VCALENDAR
VERSION:2.0
PRODID:-//Paddy Whelan`s - ECPv4.0.5//NONSGML v1.0//EN
CALSCALE:GREGORIAN
METHOD:PUBLISH
X-WR-CALNAME:Paddy Whelan`s
X-ORIGINAL-URL:https://www.paddywhelans.com
X-WR-CALDESC:Events for Paddy Whelan`s
BEGIN:VEVENT
DTSTART;TZID="UTC+3":20220910T162000
DTEND;TZID="UTC+3":20220910T190000
DTSTAMP:20260425T010004
CREATED:20220903T181154
LAST-MODIFIED:20220903T181154
UID:17721-1662826800-1662836400@www.paddywhelans.com
SUMMARY:Hoffenheim – Mainz
DESCRIPTION:
URL:https://www.paddywhelans.com/event/hoffenheim-mainz/
CATEGORIES:Continental Europe Football
END:VEVENT
END:VCALENDAR