BEGIN:VCALENDAR
VERSION:2.0
PRODID:-//Paddy Whelan`s - ECPv4.0.5//NONSGML v1.0//EN
CALSCALE:GREGORIAN
METHOD:PUBLISH
X-WR-CALNAME:Paddy Whelan`s
X-ORIGINAL-URL:https://www.paddywhelans.com
X-WR-CALDESC:Events for Paddy Whelan`s
BEGIN:VEVENT
DTSTART;TZID="UTC+3":20220918T203000
DTEND;TZID="UTC+3":20220918T220000
DTSTAMP:20260425T133019
CREATED:20220911T194436
LAST-MODIFIED:20220911T194436
UID:17856-1663533000-1663538400@www.paddywhelans.com
SUMMARY:Hoffeinheim – Freiburg
DESCRIPTION:
URL:https://www.paddywhelans.com/event/hoffeinheim-freiburg/
CATEGORIES:Continental Europe Football
END:VEVENT
END:VCALENDAR