BEGIN:VCALENDAR
VERSION:2.0
PRODID:-//Paddy Whelan`s - ECPv4.0.5//NONSGML v1.0//EN
CALSCALE:GREGORIAN
METHOD:PUBLISH
X-WR-CALNAME:Paddy Whelan`s
X-ORIGINAL-URL:https://www.paddywhelans.com
X-WR-CALDESC:Events for Paddy Whelan`s
BEGIN:VEVENT
DTSTART;TZID="UTC+3":20220922T193000
DTEND;TZID="UTC+3":20220922T210000
DTSTAMP:20260426T002012
CREATED:20220916T154333
LAST-MODIFIED:20220916T154333
UID:17879-1663875000-1663880400@www.paddywhelans.com
SUMMARY:HK Zemgale/LLU – HS Rīga
DESCRIPTION:
URL:https://www.paddywhelans.com/event/hk-zemgale-llu-hs-riga/
CATEGORIES:Ice Hockey
END:VEVENT
END:VCALENDAR