BEGIN:VCALENDAR
VERSION:2.0
PRODID:-//Paddy Whelan`s - ECPv4.0.5//NONSGML v1.0//EN
CALSCALE:GREGORIAN
METHOD:PUBLISH
X-WR-CALNAME:Paddy Whelan`s
X-ORIGINAL-URL:https://www.paddywhelans.com
X-WR-CALDESC:Events for Paddy Whelan`s
BEGIN:VEVENT
DTSTART;TZID="UTC+3":20220907T193000
DTEND;TZID="UTC+3":20220907T210000
DTSTAMP:20260424T061343
CREATED:20220903T170511
LAST-MODIFIED:20220903T170511
UID:17647-1662579000-1662584400@www.paddywhelans.com
SUMMARY:HK Zemgale/LLU – Dinamo Riga
DESCRIPTION:
URL:https://www.paddywhelans.com/event/hk-zemgale-llu-dinamo-riga/
CATEGORIES:Ice Hockey
END:VEVENT
END:VCALENDAR