BEGIN:VCALENDAR
VERSION:2.0
PRODID:-//Paddy Whelan`s - ECPv4.0.5//NONSGML v1.0//EN
CALSCALE:GREGORIAN
METHOD:PUBLISH
X-WR-CALNAME:Paddy Whelan`s
X-ORIGINAL-URL:https://www.paddywhelans.com
X-WR-CALDESC:Events for Paddy Whelan`s
BEGIN:VEVENT
DTSTART;TZID="UTC+3":20220924T133000
DTEND;TZID="UTC+3":20220924T160000
DTSTAMP:20260426T022149
CREATED:20220916T170637
LAST-MODIFIED:20220916T170637
UID:17920-1664026200-1664035200@www.paddywhelans.com
SUMMARY:HK Mogo/LSPA – HS Rīga
DESCRIPTION:
URL:https://www.paddywhelans.com/event/hk-mogo-lspa-hs-riga/
CATEGORIES:Ice Hockey
END:VEVENT
END:VCALENDAR