BEGIN:VCALENDAR
VERSION:2.0
PRODID:-//Paddy Whelan`s - ECPv4.0.5//NONSGML v1.0//EN
CALSCALE:GREGORIAN
METHOD:PUBLISH
X-WR-CALNAME:Paddy Whelan`s
X-ORIGINAL-URL:https://www.paddywhelans.com
X-WR-CALDESC:Events for Paddy Whelan`s
BEGIN:VEVENT
DTSTART;TZID="UTC+3":20220921T190000
DTEND;TZID="UTC+3":20220921T210000
DTSTAMP:20260425T223719
CREATED:20220916T154124
LAST-MODIFIED:20220916T154124
UID:17876-1663786800-1663794000@www.paddywhelans.com
SUMMARY:HK Dinaburga – HK Mogo/LSPA
DESCRIPTION:
URL:https://www.paddywhelans.com/event/hk-dinaburga-hk-mogo-lspa/
CATEGORIES:Ice Hockey
END:VEVENT
END:VCALENDAR