BEGIN:VCALENDAR
VERSION:2.0
PRODID:-//Paddy Whelan`s - ECPv4.0.5//NONSGML v1.0//EN
CALSCALE:GREGORIAN
METHOD:PUBLISH
X-WR-CALNAME:Paddy Whelan`s
X-ORIGINAL-URL:https://www.paddywhelans.com
X-WR-CALDESC:Events for Paddy Whelan`s
BEGIN:VEVENT
DTSTART;TZID="UTC+3":20220915T220000
DTEND;TZID="UTC+3":20220915T230000
DTSTAMP:20260423T195611
CREATED:20220909T155819
LAST-MODIFIED:20220909T155819
UID:17812-1663279200-1663282800@www.paddywhelans.com
SUMMARY:Hapoel - Villareal
DESCRIPTION:
URL:https://www.paddywhelans.com/event/hapoel-villareal/
CATEGORIES:Continental Europe Football
END:VEVENT
END:VCALENDAR