BEGIN:VCALENDAR
VERSION:2.0
PRODID:-//Paddy Whelan`s - ECPv4.0.5//NONSGML v1.0//EN
CALSCALE:GREGORIAN
METHOD:PUBLISH
X-WR-CALNAME:Paddy Whelan`s
X-ORIGINAL-URL:https://www.paddywhelans.com
X-WR-CALDESC:Events for Paddy Whelan`s
BEGIN:VEVENT
DTSTART;TZID="UTC+3":20220917T200000
DTEND;TZID="UTC+3":20220917T230000
DTSTAMP:20260425T144313
CREATED:20220911T191929
LAST-MODIFIED:20220911T191929
UID:17827-1663444800-1663455600@www.paddywhelans.com
SUMMARY:Guardians – Twins
DESCRIPTION:
URL:https://www.paddywhelans.com/event/guardians-twins-3/
CATEGORIES:American Sports
END:VEVENT
END:VCALENDAR