BEGIN:VCALENDAR
VERSION:2.0
PRODID:-//Paddy Whelan`s - ECPv4.0.5//NONSGML v1.0//EN
CALSCALE:GREGORIAN
METHOD:PUBLISH
X-WR-CALNAME:Paddy Whelan`s
X-ORIGINAL-URL:https://www.paddywhelans.com
X-WR-CALDESC:Events for Paddy Whelan`s
BEGIN:VEVENT
DTSTART;TZID="UTC+3":20220906T180000
DTEND;TZID="UTC+3":20220906T200000
DTSTAMP:20260425T031058
CREATED:20220903T162944
LAST-MODIFIED:20220903T162944
UID:17628-1662487200-1662494400@www.paddywhelans.com
SUMMARY:Greece – Ukraine
DESCRIPTION:
URL:https://www.paddywhelans.com/event/greece-ukraine/
CATEGORIES:Basketball
END:VEVENT
END:VCALENDAR