BEGIN:VCALENDAR
VERSION:2.0
PRODID:-//Paddy Whelan`s - ECPv4.0.5//NONSGML v1.0//EN
CALSCALE:GREGORIAN
METHOD:PUBLISH
X-WR-CALNAME:Paddy Whelan`s
X-ORIGINAL-URL:https://www.paddywhelans.com
X-WR-CALDESC:Events for Paddy Whelan`s
BEGIN:VEVENT
DTSTART;TZID="UTC+3":20220910T210000
DTEND;TZID="UTC+3":20220910T230000
DTSTAMP:20260425T012426
CREATED:20220903T180523
LAST-MODIFIED:20220903T180523
UID:17711-1662843600-1662850800@www.paddywhelans.com
SUMMARY:Golf Kroger Queen City Championship\, Stage 3
DESCRIPTION:
URL:https://www.paddywhelans.com/event/golf-kroger-queen-city-championship-stage-3/
CATEGORIES:Other Sports
END:VEVENT
END:VCALENDAR