BEGIN:VCALENDAR
VERSION:2.0
PRODID:-//Paddy Whelan`s - ECPv4.0.5//NONSGML v1.0//EN
CALSCALE:GREGORIAN
METHOD:PUBLISH
X-WR-CALNAME:Paddy Whelan`s
X-ORIGINAL-URL:https://www.paddywhelans.com
X-WR-CALDESC:Events for Paddy Whelan`s
BEGIN:VEVENT
DTSTART;TZID="UTC+3":20220909T230000
DTEND;TZID="UTC+3":20220909T235500
DTSTAMP:20260424T121745
CREATED:20220903T173854
LAST-MODIFIED:20220903T173854
UID:17700-1662764400-1662767700@www.paddywhelans.com
SUMMARY:Golf Kroger Queen City Championship\, Stage 2
DESCRIPTION:
URL:https://www.paddywhelans.com/event/golf-kroger-queen-city-championship-stage-2/
CATEGORIES:Other Sports
END:VEVENT
END:VCALENDAR