BEGIN:VCALENDAR
VERSION:2.0
PRODID:-//Paddy Whelan`s - ECPv4.0.5//NONSGML v1.0//EN
CALSCALE:GREGORIAN
METHOD:PUBLISH
X-WR-CALNAME:Paddy Whelan`s
X-ORIGINAL-URL:https://www.paddywhelans.com
X-WR-CALDESC:Events for Paddy Whelan`s
BEGIN:VEVENT
DTSTART;TZID="UTC+3":20220902T200000
DTEND;TZID="UTC+3":20220902T230000
DTSTAMP:20260425T104747
CREATED:20220827T163120
LAST-MODIFIED:20220827T163120
UID:17524-1662148800-1662159600@www.paddywhelans.com
SUMMARY:Golf Dana Open\, Stage 2
DESCRIPTION:
URL:https://www.paddywhelans.com/event/golf-dana-open-stage-2/
CATEGORIES:Other Sports
END:VEVENT
END:VCALENDAR