BEGIN:VCALENDAR
VERSION:2.0
PRODID:-//Paddy Whelan`s - ECPv4.0.5//NONSGML v1.0//EN
CALSCALE:GREGORIAN
METHOD:PUBLISH
X-WR-CALNAME:Paddy Whelan`s
X-ORIGINAL-URL:https://www.paddywhelans.com
X-WR-CALDESC:Events for Paddy Whelan`s
BEGIN:VEVENT
DTSTART;TZID="UTC+3":20220901T200000
DTEND;TZID="UTC+3":20220901T230000
DTSTAMP:20260425T134223
CREATED:20220827T162305
LAST-MODIFIED:20220827T162305
UID:17514-1662062400-1662073200@www.paddywhelans.com
SUMMARY:Golf Dana Open\, Stage 1
DESCRIPTION:
URL:https://www.paddywhelans.com/event/golf-dana-open-stage-1/
CATEGORIES:Other Sports
END:VEVENT
END:VCALENDAR