BEGIN:VCALENDAR
VERSION:2.0
PRODID:-//Paddy Whelan`s - ECPv4.0.5//NONSGML v1.0//EN
CALSCALE:GREGORIAN
METHOD:PUBLISH
X-WR-CALNAME:Paddy Whelan`s
X-ORIGINAL-URL:https://www.paddywhelans.com
X-WR-CALDESC:Events for Paddy Whelan`s
BEGIN:VEVENT
DTSTART;TZID="UTC+3":20220907T200000
DTEND;TZID="UTC+3":20220907T220000
DTSTAMP:20260423T231904
CREATED:20220903T171259
LAST-MODIFIED:20220903T171259
UID:17652-1662580800-1662588000@www.paddywhelans.com
SUMMARY:Georgia – Montenegro
DESCRIPTION:
URL:https://www.paddywhelans.com/event/georgia-montenegro/
CATEGORIES:Basketball
END:VEVENT
END:VCALENDAR