BEGIN:VCALENDAR
VERSION:2.0
PRODID:-//Paddy Whelan`s - ECPv4.0.5//NONSGML v1.0//EN
CALSCALE:GREGORIAN
METHOD:PUBLISH
X-WR-CALNAME:Paddy Whelan`s
X-ORIGINAL-URL:https://www.paddywhelans.com
X-WR-CALDESC:Events for Paddy Whelan`s
BEGIN:VEVENT
DTSTART;TZID="UTC+3":20220915T194000
DTEND;TZID="UTC+3":20220915T210000
DTSTAMP:20260423T175940
CREATED:20220909T155252
LAST-MODIFIED:20220909T155252
UID:17803-1663270800-1663275600@www.paddywhelans.com
SUMMARY:Gent – Shamrock Rovers
DESCRIPTION:
URL:https://www.paddywhelans.com/event/gent-shamrock-rovers/
CATEGORIES:Continental Europe Football
END:VEVENT
END:VCALENDAR