BEGIN:VCALENDAR
VERSION:2.0
PRODID:-//Paddy Whelan`s - ECPv4.0.5//NONSGML v1.0//EN
CALSCALE:GREGORIAN
METHOD:PUBLISH
X-WR-CALNAME:Paddy Whelan`s
X-ORIGINAL-URL:https://www.paddywhelans.com
X-WR-CALDESC:Events for Paddy Whelan`s
BEGIN:VEVENT
DTSTART;TZID="UTC+3":20220911T183000
DTEND;TZID="UTC+3":20220911T200000
DTSTAMP:20260425T012334
CREATED:20220903T182321
LAST-MODIFIED:20220903T182321
UID:17745-1662921000-1662926400@www.paddywhelans.com
SUMMARY:Freiburg – Monchengladbach
DESCRIPTION:
URL:https://www.paddywhelans.com/event/freiburg-monchengladbach/
CATEGORIES:Continental Europe Football
END:VEVENT
END:VCALENDAR