BEGIN:VCALENDAR
VERSION:2.0
PRODID:-//Paddy Whelan`s - ECPv4.0.5//NONSGML v1.0//EN
CALSCALE:GREGORIAN
METHOD:PUBLISH
X-WR-CALNAME:Paddy Whelan`s
X-ORIGINAL-URL:https://www.paddywhelans.com
X-WR-CALDESC:Events for Paddy Whelan`s
BEGIN:VEVENT
DTSTART;TZID="UTC+3":20220821T162000
DTEND;TZID="UTC+3":20220821T180000
DTSTAMP:20260426T042522
CREATED:20220814T171509
LAST-MODIFIED:20220814T171509
UID:17388-1661098800-1661104800@www.paddywhelans.com
SUMMARY:Frankfutt – Koln
DESCRIPTION:
URL:https://www.paddywhelans.com/event/frankfutt-koln/
CATEGORIES:Continental Europe Football
END:VEVENT
END:VCALENDAR