BEGIN:VCALENDAR
VERSION:2.0
PRODID:-//Paddy Whelan`s - ECPv4.0.5//NONSGML v1.0//EN
CALSCALE:GREGORIAN
METHOD:PUBLISH
X-WR-CALNAME:Paddy Whelan`s
X-ORIGINAL-URL:https://www.paddywhelans.com
X-WR-CALDESC:Events for Paddy Whelan`s
BEGIN:VEVENT
DTSTART;TZID="UTC+3":20220910T162000
DTEND;TZID="UTC+3":20220910T190000
DTSTAMP:20260424T232604
CREATED:20220903T181133
LAST-MODIFIED:20220903T181133
UID:17720-1662826800-1662836400@www.paddywhelans.com
SUMMARY:Frankfurt – Wolfsburg
DESCRIPTION:
URL:https://www.paddywhelans.com/event/frankfurt-wolfsburg/
CATEGORIES:Continental Europe Football
END:VEVENT
END:VCALENDAR