BEGIN:VCALENDAR
VERSION:2.0
PRODID:-//Paddy Whelan`s - ECPv4.0.5//NONSGML v1.0//EN
CALSCALE:GREGORIAN
METHOD:PUBLISH
X-WR-CALNAME:Paddy Whelan`s
X-ORIGINAL-URL:https://www.paddywhelans.com
X-WR-CALDESC:Events for Paddy Whelan`s
BEGIN:VEVENT
DTSTART;TZID="UTC+3":20220901T213000
DTEND;TZID="UTC+3":20220901T230000
DTSTAMP:20260425T102225
CREATED:20220827T162917
LAST-MODIFIED:20220827T162917
UID:17522-1662067800-1662073200@www.paddywhelans.com
SUMMARY:France – Germany
DESCRIPTION:
URL:https://www.paddywhelans.com/event/france-germany/
CATEGORIES:Basketball
END:VEVENT
END:VCALENDAR