BEGIN:VCALENDAR
VERSION:2.0
PRODID:-//Paddy Whelan`s - ECPv4.0.5//NONSGML v1.0//EN
CALSCALE:GREGORIAN
METHOD:PUBLISH
X-WR-CALNAME:Paddy Whelan`s
X-ORIGINAL-URL:https://www.paddywhelans.com
X-WR-CALDESC:Events for Paddy Whelan`s
BEGIN:VEVENT
DTSTART;TZID="UTC+3":20181212T215000
DTEND;TZID="UTC+3":20181212T215000
DTSTAMP:20260425T134722
CREATED:20181209T193451
LAST-MODIFIED:20181209T193451
UID:5815-1544651400-1544651400@www.paddywhelans.com
SUMMARY:Football – UEFA Champions League: Shakhtar Donetsk VS Lyon
DESCRIPTION:
URL:https://www.paddywhelans.com/event/football-uefa-champions-league-shakhtar-donetsk-vs-lyon/
CATEGORIES:UEFA Champions League
END:VEVENT
END:VCALENDAR