BEGIN:VCALENDAR
VERSION:2.0
PRODID:-//Paddy Whelan`s - ECPv4.0.5//NONSGML v1.0//EN
CALSCALE:GREGORIAN
METHOD:PUBLISH
X-WR-CALNAME:Paddy Whelan`s
X-ORIGINAL-URL:https://www.paddywhelans.com
X-WR-CALDESC:Events for Paddy Whelan`s
BEGIN:VEVENT
DTSTART;TZID="UTC+3":20181212T194500
DTEND;TZID="UTC+3":20181212T194500
DTSTAMP:20260425T135048
CREATED:20181209T193413
LAST-MODIFIED:20181209T193413
UID:5814-1544643900-1544643900@www.paddywhelans.com
SUMMARY:Football – UEFA Champions League: Real Madrid VS CSKA Moskva
DESCRIPTION:
URL:https://www.paddywhelans.com/event/football-uefa-champions-league-real-madrid-vs-cska-moskva/
CATEGORIES:UEFA Champions League
END:VEVENT
END:VCALENDAR