BEGIN:VCALENDAR
VERSION:2.0
PRODID:-//Paddy Whelan`s - ECPv4.0.5//NONSGML v1.0//EN
CALSCALE:GREGORIAN
METHOD:PUBLISH
X-WR-CALNAME:Paddy Whelan`s
X-ORIGINAL-URL:https://www.paddywhelans.com
X-WR-CALDESC:Events for Paddy Whelan`s
BEGIN:VEVENT
DTSTART;TZID="UTC+3":20181226T212500
DTEND;TZID="UTC+3":20181226T212500
DTSTAMP:20260423T225351
CREATED:20181223T204812
LAST-MODIFIED:20181223T204812
UID:5894-1545859500-1545859500@www.paddywhelans.com
SUMMARY:Football – Serie A: Inter Milan VS Napoli
DESCRIPTION:
URL:https://www.paddywhelans.com/event/football-serie-a-inter-milan-vs-napoli/
CATEGORIES:Continental Europe Football
END:VEVENT
END:VCALENDAR