BEGIN:VCALENDAR
VERSION:2.0
PRODID:-//Paddy Whelan`s - ECPv4.0.5//NONSGML v1.0//EN
CALSCALE:GREGORIAN
METHOD:PUBLISH
X-WR-CALNAME:Paddy Whelan`s
X-ORIGINAL-URL:https://www.paddywhelans.com
X-WR-CALDESC:Events for Paddy Whelan`s
BEGIN:VEVENT
DTSTART;TZID="UTC+3":20181226T132500
DTEND;TZID="UTC+3":20181226T132500
DTSTAMP:20260423T225630
CREATED:20181223T204635
LAST-MODIFIED:20181223T204635
UID:5891-1545830700-1545830700@www.paddywhelans.com
SUMMARY:Football – Serie A: Frosinone VS AC Milan
DESCRIPTION:
URL:https://www.paddywhelans.com/event/football-serie-a-frosinone-vs-ac-milan/
CATEGORIES:Continental Europe Football
END:VEVENT
END:VCALENDAR