BEGIN:VCALENDAR
VERSION:2.0
PRODID:-//Paddy Whelan`s - ECPv4.0.5//NONSGML v1.0//EN
CALSCALE:GREGORIAN
METHOD:PUBLISH
X-WR-CALNAME:Paddy Whelan`s
X-ORIGINAL-URL:https://www.paddywhelans.com
X-WR-CALDESC:Events for Paddy Whelan`s
BEGIN:VEVENT
DTSTART;TZID="UTC+3":20181229T155500
DTEND;TZID="UTC+3":20181229T155500
DTSTAMP:20260423T193323
CREATED:20181223T205631
LAST-MODIFIED:20181223T205631
UID:5908-1546098900-1546098900@www.paddywhelans.com
SUMMARY:Football – Serie A: Empoli VS Inter Milan
DESCRIPTION:
URL:https://www.paddywhelans.com/event/football-serie-a-empoli-vs-inter-milan/
CATEGORIES:Continental Europe Football
END:VEVENT
END:VCALENDAR