BEGIN:VCALENDAR
VERSION:2.0
PRODID:-//Paddy Whelan`s - ECPv4.0.5//NONSGML v1.0//EN
CALSCALE:GREGORIAN
METHOD:PUBLISH
X-WR-CALNAME:Paddy Whelan`s
X-ORIGINAL-URL:https://www.paddywhelans.com
X-WR-CALDESC:Events for Paddy Whelan`s
BEGIN:VEVENT
DTSTART;TZID="UTC+3":20190127T132500
DTEND;TZID="UTC+3":20190127T132500
DTSTAMP:20260423T102337
CREATED:20190121T100216
LAST-MODIFIED:20190121T100216
UID:6020-1548595500-1548595500@www.paddywhelans.com
SUMMARY:Football – Serie A: Chievo VS Fiorentina
DESCRIPTION:
URL:https://www.paddywhelans.com/event/football-serie-a-chievo-vs-fiorentina/
CATEGORIES:Continental Europe Football
END:VEVENT
END:VCALENDAR