BEGIN:VCALENDAR
VERSION:2.0
PRODID:-//Paddy Whelan`s - ECPv4.0.5//NONSGML v1.0//EN
CALSCALE:GREGORIAN
METHOD:PUBLISH
X-WR-CALNAME:Paddy Whelan`s
X-ORIGINAL-URL:https://www.paddywhelans.com
X-WR-CALDESC:Events for Paddy Whelan`s
BEGIN:VEVENT
DTSTART;TZID="UTC+3":20181229T212500
DTEND;TZID="UTC+3":20181229T212500
DTSTAMP:20260423T180236
CREATED:20181223T205740
LAST-MODIFIED:20181223T205740
UID:5910-1546118700-1546118700@www.paddywhelans.com
SUMMARY:Football – Serie A: AC Milan VS SPAL
DESCRIPTION:
URL:https://www.paddywhelans.com/event/football-serie-a-ac-milan-vs-spal/
CATEGORIES:Continental Europe Football
END:VEVENT
END:VCALENDAR