BEGIN:VCALENDAR
VERSION:2.0
PRODID:-//Paddy Whelan`s - ECPv4.0.5//NONSGML v1.0//EN
CALSCALE:GREGORIAN
METHOD:PUBLISH
X-WR-CALNAME:Paddy Whelan`s
X-ORIGINAL-URL:https://www.paddywhelans.com
X-WR-CALDESC:Events for Paddy Whelan`s
BEGIN:VEVENT
DTSTART;TZID="UTC+3":20190125T214000
DTEND;TZID="UTC+3":20190125T214000
DTSTAMP:20260421T162847
CREATED:20190121T095732
LAST-MODIFIED:20190121T095732
UID:6012-1548452400-1548452400@www.paddywhelans.com
SUMMARY:Football – Ligue 1: Marseille VS Lille
DESCRIPTION:
URL:https://www.paddywhelans.com/event/football-ligue-1-marseille-vs-lille/
CATEGORIES:Continental Europe Football
END:VEVENT
END:VCALENDAR