BEGIN:VCALENDAR
VERSION:2.0
PRODID:-//Paddy Whelan`s - ECPv4.0.5//NONSGML v1.0//EN
CALSCALE:GREGORIAN
METHOD:PUBLISH
X-WR-CALNAME:Paddy Whelan`s
X-ORIGINAL-URL:https://www.paddywhelans.com
X-WR-CALDESC:Events for Paddy Whelan`s
BEGIN:VEVENT
DTSTART;TZID="UTC+3":20190201T214000
DTEND;TZID="UTC+3":20190201T214000
DTSTAMP:20260421T025632
CREATED:20190127T160946
LAST-MODIFIED:20190127T160946
UID:6034-1549057200-1549057200@www.paddywhelans.com
SUMMARY:Football – Ligue 1: Lille VS Nice
DESCRIPTION:
URL:https://www.paddywhelans.com/event/football-ligue-1-lille-vs-nice/
CATEGORIES:Continental Europe Football
END:VEVENT
END:VCALENDAR