BEGIN:VCALENDAR
VERSION:2.0
PRODID:-//Paddy Whelan`s - ECPv4.0.5//NONSGML v1.0//EN
CALSCALE:GREGORIAN
METHOD:PUBLISH
X-WR-CALNAME:Paddy Whelan`s
X-ORIGINAL-URL:https://www.paddywhelans.com
X-WR-CALDESC:Events for Paddy Whelan`s
BEGIN:VEVENT
DTSTART;TZID="UTC+3":20190118T214000
DTEND;TZID="UTC+3":20190118T214000
DTSTAMP:20260422T074324
CREATED:20190113T142722
LAST-MODIFIED:20190113T142722
UID:5990-1547847600-1547847600@www.paddywhelans.com
SUMMARY:Football – Ligue 1: Lille VS Amiens
DESCRIPTION:
URL:https://www.paddywhelans.com/event/football-ligue-1-lille-vs-amiens/
CATEGORIES:Continental Europe Football
END:VEVENT
END:VCALENDAR