BEGIN:VCALENDAR
VERSION:2.0
PRODID:-//Paddy Whelan`s - ECPv4.0.5//NONSGML v1.0//EN
CALSCALE:GREGORIAN
METHOD:PUBLISH
X-WR-CALNAME:Paddy Whelan`s
X-ORIGINAL-URL:https://www.paddywhelans.com
X-WR-CALDESC:Events for Paddy Whelan`s
BEGIN:VEVENT
DTSTART;TZID="UTC+3":20190103T222500
DTEND;TZID="UTC+3":20190103T222500
DTSTAMP:20260423T112521
CREATED:20181229T154050
LAST-MODIFIED:20181229T154050
UID:5927-1546554300-1546554300@www.paddywhelans.com
SUMMARY:Football – La Liga: Villarreal VS Real Madrid
DESCRIPTION:
URL:https://www.paddywhelans.com/event/football-la-liga-villarreal-vs-real-madrid/
CATEGORIES:La Liga
END:VEVENT
END:VCALENDAR