BEGIN:VCALENDAR
VERSION:2.0
PRODID:-//Paddy Whelan`s - ECPv4.0.5//NONSGML v1.0//EN
CALSCALE:GREGORIAN
METHOD:PUBLISH
X-WR-CALNAME:Paddy Whelan`s
X-ORIGINAL-URL:https://www.paddywhelans.com
X-WR-CALDESC:Events for Paddy Whelan`s
BEGIN:VEVENT
DTSTART;TZID="UTC+3":20190112T214000
DTEND;TZID="UTC+3":20190112T214000
DTSTAMP:20260422T173627
CREATED:20190105T213830
LAST-MODIFIED:20190105T213830
UID:5971-1547329200-1547329200@www.paddywhelans.com
SUMMARY:Football – La Liga: Villarreal VS Getafe
DESCRIPTION:
URL:https://www.paddywhelans.com/event/football-la-liga-villarreal-vs-getafe/
CATEGORIES:La Liga
END:VEVENT
END:VCALENDAR