BEGIN:VCALENDAR
VERSION:2.0
PRODID:-//Paddy Whelan`s - ECPv4.0.5//NONSGML v1.0//EN
CALSCALE:GREGORIAN
METHOD:PUBLISH
X-WR-CALNAME:Paddy Whelan`s
X-ORIGINAL-URL:https://www.paddywhelans.com
X-WR-CALDESC:Events for Paddy Whelan`s
BEGIN:VEVENT
DTSTART;TZID="UTC+3":20190114T215500
DTEND;TZID="UTC+3":20190114T215500
DTSTAMP:20260422T135920
CREATED:20190113T142102
LAST-MODIFIED:20190113T142102
UID:5982-1547502900-1547502900@www.paddywhelans.com
SUMMARY:Football – La Liga: Real Sociedad VS Espanyol
DESCRIPTION:
URL:https://www.paddywhelans.com/event/football-la-liga-real-sociedad-vs-espanyol/
CATEGORIES:La Liga
END:VEVENT
END:VCALENDAR