BEGIN:VCALENDAR
VERSION:2.0
PRODID:-//Paddy Whelan`s - ECPv4.0.5//NONSGML v1.0//EN
CALSCALE:GREGORIAN
METHOD:PUBLISH
X-WR-CALNAME:Paddy Whelan`s
X-ORIGINAL-URL:https://www.paddywhelans.com
X-WR-CALDESC:Events for Paddy Whelan`s
BEGIN:VEVENT
DTSTART;TZID="UTC+3":20190202T171000
DTEND;TZID="UTC+3":20190202T171000
DTSTAMP:20260421T005607
CREATED:20190127T161512
LAST-MODIFIED:20190127T161512
UID:6042-1549127400-1549127400@www.paddywhelans.com
SUMMARY:Football – La Liga: Real Sociedad VS Athletic Club
DESCRIPTION:
URL:https://www.paddywhelans.com/event/football-la-liga-real-sociedad-vs-athletic-club/
CATEGORIES:La Liga
END:VEVENT
END:VCALENDAR