BEGIN:VCALENDAR
VERSION:2.0
PRODID:-//Paddy Whelan`s - ECPv4.0.5//NONSGML v1.0//EN
CALSCALE:GREGORIAN
METHOD:PUBLISH
X-WR-CALNAME:Paddy Whelan`s
X-ORIGINAL-URL:https://www.paddywhelans.com
X-WR-CALDESC:Events for Paddy Whelan`s
BEGIN:VEVENT
DTSTART;TZID="UTC+3":20181215T192500
DTEND;TZID="UTC+3":20181215T192500
DTSTAMP:20260425T110413
CREATED:20181209T194528
LAST-MODIFIED:20181209T194528
UID:5831-1544901900-1544901900@www.paddywhelans.com
SUMMARY:Football – La Liga: Real Madrid VS Rayo Vallecano
DESCRIPTION:
URL:https://www.paddywhelans.com/event/football-la-liga-real-madrid-vs-rayo-vallecano/
CATEGORIES:La Liga
END:VEVENT
END:VCALENDAR