BEGIN:VCALENDAR
VERSION:2.0
PRODID:-//Paddy Whelan`s - ECPv4.0.5//NONSGML v1.0//EN
CALSCALE:GREGORIAN
METHOD:PUBLISH
X-WR-CALNAME:Paddy Whelan`s
X-ORIGINAL-URL:https://www.paddywhelans.com
X-WR-CALDESC:Events for Paddy Whelan`s
BEGIN:VEVENT
DTSTART;TZID="UTC+3":20190203T171000
DTEND;TZID="UTC+3":20190203T171000
DTSTAMP:20260420T233747
CREATED:20190127T162007
LAST-MODIFIED:20190127T162007
UID:6050-1549213800-1549213800@www.paddywhelans.com
SUMMARY:Football – La Liga: Real Betis VS Atletico Madrid
DESCRIPTION:
URL:https://www.paddywhelans.com/event/football-la-liga-real-betis-vs-atletico-madrid/
CATEGORIES:La Liga
END:VEVENT
END:VCALENDAR