BEGIN:VCALENDAR
VERSION:2.0
PRODID:-//Paddy Whelan`s - ECPv4.0.5//NONSGML v1.0//EN
CALSCALE:GREGORIAN
METHOD:PUBLISH
X-WR-CALNAME:Paddy Whelan`s
X-ORIGINAL-URL:https://www.paddywhelans.com
X-WR-CALDESC:Events for Paddy Whelan`s
BEGIN:VEVENT
DTSTART;TZID="UTC+3":20181223T171000
DTEND;TZID="UTC+3":20181223T171000
DTSTAMP:20260424T060209
CREATED:20181217T100521
LAST-MODIFIED:20181217T100521
UID:5883-1545585000-1545585000@www.paddywhelans.com
SUMMARY:Football – La Liga: Leganes VS Sevilla
DESCRIPTION:
URL:https://www.paddywhelans.com/event/football-la-liga-leganes-vs-sevilla/
CATEGORIES:La Liga
END:VEVENT
END:VCALENDAR