BEGIN:VCALENDAR
VERSION:2.0
PRODID:-//Paddy Whelan`s - ECPv4.0.5//NONSGML v1.0//EN
CALSCALE:GREGORIAN
METHOD:PUBLISH
X-WR-CALNAME:Paddy Whelan`s
X-ORIGINAL-URL:https://www.paddywhelans.com
X-WR-CALDESC:Events for Paddy Whelan`s
BEGIN:VEVENT
DTSTART;TZID="UTC+3":20190209T214000
DTEND;TZID="UTC+3":20190209T214000
DTSTAMP:20260420T134707
CREATED:20190202T164108
LAST-MODIFIED:20190202T164108
UID:6077-1549748400-1549748400@www.paddywhelans.com
SUMMARY:Football – La Liga: Leganes VS Real Betis
DESCRIPTION:
URL:https://www.paddywhelans.com/event/football-la-liga-leganes-vs-real-betis/
CATEGORIES:La Liga
END:VEVENT
END:VCALENDAR