BEGIN:VCALENDAR
VERSION:2.0
PRODID:-//Paddy Whelan`s - ECPv4.0.5//NONSGML v1.0//EN
CALSCALE:GREGORIAN
METHOD:PUBLISH
X-WR-CALNAME:Paddy Whelan`s
X-ORIGINAL-URL:https://www.paddywhelans.com
X-WR-CALDESC:Events for Paddy Whelan`s
BEGIN:VEVENT
DTSTART;TZID="UTC+3":20190209T135500
DTEND;TZID="UTC+3":20190209T135500
DTSTAMP:20260420T134547
CREATED:20190202T164006
LAST-MODIFIED:20190202T164006
UID:6075-1549720500-1549720500@www.paddywhelans.com
SUMMARY:Football – La Liga: Getafe VS Celta Vigo
DESCRIPTION:
URL:https://www.paddywhelans.com/event/football-la-liga-getafe-vs-celta-vigo/
CATEGORIES:La Liga
END:VEVENT
END:VCALENDAR