BEGIN:VCALENDAR
VERSION:2.0
PRODID:-//Paddy Whelan`s - ECPv4.0.5//NONSGML v1.0//EN
CALSCALE:GREGORIAN
METHOD:PUBLISH
X-WR-CALNAME:Paddy Whelan`s
X-ORIGINAL-URL:https://www.paddywhelans.com
X-WR-CALDESC:Events for Paddy Whelan`s
BEGIN:VEVENT
DTSTART;TZID="UTC+3":20181215T214000
DTEND;TZID="UTC+3":20181215T214000
DTSTAMP:20260425T110202
CREATED:20181209T194602
LAST-MODIFIED:20181209T194602
UID:5832-1544910000-1544910000@www.paddywhelans.com
SUMMARY:Football – La Liga: Eibar VS Valencia
DESCRIPTION:
URL:https://www.paddywhelans.com/event/football-la-liga-eibar-vs-valencia/
CATEGORIES:La Liga
END:VEVENT
END:VCALENDAR