BEGIN:VCALENDAR
VERSION:2.0
PRODID:-//Paddy Whelan`s - ECPv4.0.5//NONSGML v1.0//EN
CALSCALE:GREGORIAN
METHOD:PUBLISH
X-WR-CALNAME:Paddy Whelan`s
X-ORIGINAL-URL:https://www.paddywhelans.com
X-WR-CALDESC:Events for Paddy Whelan`s
BEGIN:VEVENT
DTSTART;TZID="UTC+3":20190203T192500
DTEND;TZID="UTC+3":20190203T192500
DTSTAMP:20260420T233905
CREATED:20190127T162045
LAST-MODIFIED:20190127T162045
UID:6051-1549221900-1549221900@www.paddywhelans.com
SUMMARY:Football – La Liga: Eibar VS Girona
DESCRIPTION:
URL:https://www.paddywhelans.com/event/football-la-liga-eibar-vs-girona/
CATEGORIES:La Liga
END:VEVENT
END:VCALENDAR