BEGIN:VCALENDAR
VERSION:2.0
PRODID:-//Paddy Whelan`s - ECPv4.0.5//NONSGML v1.0//EN
CALSCALE:GREGORIAN
METHOD:PUBLISH
X-WR-CALNAME:Paddy Whelan`s
X-ORIGINAL-URL:https://www.paddywhelans.com
X-WR-CALDESC:Events for Paddy Whelan`s
BEGIN:VEVENT
DTSTART;TZID="UTC+3":20190113T192500
DTEND;TZID="UTC+3":20190113T192500
DTSTAMP:20260422T154547
CREATED:20190109T140118
LAST-MODIFIED:20190109T140118
UID:5978-1547407500-1547407500@www.paddywhelans.com
SUMMARY:Football – La Liga: Barcelona VS Eibar
DESCRIPTION:
URL:https://www.paddywhelans.com/event/football-la-liga-barcelona-vs-eibar/
CATEGORIES:La Liga
END:VEVENT
END:VCALENDAR