BEGIN:VCALENDAR
VERSION:2.0
PRODID:-//Paddy Whelan`s - ECPv4.0.5//NONSGML v1.0//EN
CALSCALE:GREGORIAN
METHOD:PUBLISH
X-WR-CALNAME:Paddy Whelan`s
X-ORIGINAL-URL:https://www.paddywhelans.com
X-WR-CALDESC:Events for Paddy Whelan`s
BEGIN:VEVENT
DTSTART;TZID="UTC+3":20190209T171000
DTEND;TZID="UTC+3":20190209T171000
DTSTAMP:20260420T134635
CREATED:20190202T164035
LAST-MODIFIED:20190202T164035
UID:6076-1549732200-1549732200@www.paddywhelans.com
SUMMARY:Football – La Liga: Atletico Madrid VS Real Madrid
DESCRIPTION:
URL:https://www.paddywhelans.com/event/football-la-liga-atletico-madrid-vs-real-madrid/
CATEGORIES:La Liga
END:VEVENT
END:VCALENDAR