BEGIN:VCALENDAR
VERSION:2.0
PRODID:-//Paddy Whelan`s - ECPv4.0.5//NONSGML v1.0//EN
CALSCALE:GREGORIAN
METHOD:PUBLISH
X-WR-CALNAME:Paddy Whelan`s
X-ORIGINAL-URL:https://www.paddywhelans.com
X-WR-CALDESC:Events for Paddy Whelan`s
BEGIN:VEVENT
DTSTART;TZID="UTC+3":20190126T171000
DTEND;TZID="UTC+3":20190126T171000
DTSTAMP:20260421T124911
CREATED:20190121T100024
LAST-MODIFIED:20190121T100024
UID:6017-1548522600-1548522600@www.paddywhelans.com
SUMMARY:Football – La Liga: Atletico Madrid VS Getafe
DESCRIPTION:
URL:https://www.paddywhelans.com/event/football-la-liga-atletico-madrid-vs-getafe/
CATEGORIES:La Liga
END:VEVENT
END:VCALENDAR