BEGIN:VCALENDAR
VERSION:2.0
PRODID:-//Paddy Whelan`s - ECPv4.0.5//NONSGML v1.0//EN
CALSCALE:GREGORIAN
METHOD:PUBLISH
X-WR-CALNAME:Paddy Whelan`s
X-ORIGINAL-URL:https://www.paddywhelans.com
X-WR-CALDESC:Events for Paddy Whelan`s
BEGIN:VEVENT
DTSTART;TZID="UTC+3":20190113T171000
DTEND;TZID="UTC+3":20190113T171000
DTSTAMP:20260422T153752
CREATED:20190109T140040
LAST-MODIFIED:20190109T140040
UID:5977-1547399400-1547399400@www.paddywhelans.com
SUMMARY:Football – La Liga: Athletic Club VS Sevilla
DESCRIPTION:
URL:https://www.paddywhelans.com/event/football-la-liga-athletic-club-vs-sevilla/
CATEGORIES:La Liga
END:VEVENT
END:VCALENDAR