BEGIN:VCALENDAR
VERSION:2.0
PRODID:-//Paddy Whelan`s - ECPv4.0.5//NONSGML v1.0//EN
CALSCALE:GREGORIAN
METHOD:PUBLISH
X-WR-CALNAME:Paddy Whelan`s
X-ORIGINAL-URL:https://www.paddywhelans.com
X-WR-CALDESC:Events for Paddy Whelan`s
BEGIN:VEVENT
DTSTART;TZID="UTC+3":20181210T215500
DTEND;TZID="UTC+3":20181210T215500
DTSTAMP:20260425T172814
CREATED:20181209T192945
LAST-MODIFIED:20181209T192945
UID:5807-1544478900-1544478900@www.paddywhelans.com
SUMMARY:Football – La Liga: Athletic Club VS Girona
DESCRIPTION:
URL:https://www.paddywhelans.com/event/football-la-liga-athletic-club-vs-girona/
CATEGORIES:La Liga
END:VEVENT
END:VCALENDAR