BEGIN:VCALENDAR
VERSION:2.0
PRODID:-//Paddy Whelan`s - ECPv4.0.5//NONSGML v1.0//EN
CALSCALE:GREGORIAN
METHOD:PUBLISH
X-WR-CALNAME:Paddy Whelan`s
X-ORIGINAL-URL:https://www.paddywhelans.com
X-WR-CALDESC:Events for Paddy Whelan`s
BEGIN:VEVENT
DTSTART;TZID="UTC+3":20190105T171000
DTEND;TZID="UTC+3":20190105T171000
DTSTAMP:20260423T060652
CREATED:20181229T154859
LAST-MODIFIED:20181229T154859
UID:5939-1546708200-1546708200@www.paddywhelans.com
SUMMARY:Football – La Liga: Alaves VS Valencia
DESCRIPTION:
URL:https://www.paddywhelans.com/event/football-la-liga-alaves-vs-valencia/
CATEGORIES:La Liga
END:VEVENT
END:VCALENDAR