BEGIN:VCALENDAR
VERSION:2.0
PRODID:-//Paddy Whelan`s - ECPv4.0.5//NONSGML v1.0//EN
CALSCALE:GREGORIAN
METHOD:PUBLISH
X-WR-CALNAME:Paddy Whelan`s
X-ORIGINAL-URL:https://www.paddywhelans.com
X-WR-CALDESC:Events for Paddy Whelan`s
BEGIN:VEVENT
DTSTART;TZID="UTC+3":20190128T215500
DTEND;TZID="UTC+3":20190128T215500
DTSTAMP:20260423T085410
CREATED:20190127T160337
LAST-MODIFIED:20190127T160337
UID:6024-1548712500-1548712500@www.paddywhelans.com
SUMMARY:Football – La Liga: Alaves VS Rayo Vallecano
DESCRIPTION:
URL:https://www.paddywhelans.com/event/football-la-liga-alaves-vs-rayo-vallecano/
CATEGORIES:La Liga
END:VEVENT
END:VCALENDAR