BEGIN:VCALENDAR
VERSION:2.0
PRODID:-//Paddy Whelan`s - ECPv4.0.5//NONSGML v1.0//EN
CALSCALE:GREGORIAN
METHOD:PUBLISH
X-WR-CALNAME:Paddy Whelan`s
X-ORIGINAL-URL:https://www.paddywhelans.com
X-WR-CALDESC:Events for Paddy Whelan`s
BEGIN:VEVENT
DTSTART;TZID="UTC+3":20180719T155500
DTEND;TZID="UTC+3":20180719T170000
DTSTAMP:20260423T182805
CREATED:20180715T090951
LAST-MODIFIED:20180715T090951
UID:5322-1532015700-1532019600@www.paddywhelans.com
SUMMARY:Football – Friendlies: Wolverhampton VS Amsterdamas Ajax
DESCRIPTION:
URL:https://www.paddywhelans.com/event/football-friendlies-wolverhampton-vs-amsterdamas-ajax/
CATEGORIES:International Football
END:VEVENT
END:VCALENDAR